BEGIN:VCALENDAR
VERSION:2.0
PRODID:-//https://ischiaeventi.com///NONSGML kigkonsult.se iCalcreator 2.10.15//
METHOD:PUBLISH
BEGIN:VEVENT
UID:20260420T111427UTC-7860BJZdoK@https://ischiaeventi.com/
DTSTAMP:20260420T111427Z
DESCRIPTION:Un fiore per MatteottiMARTIRE ANTIFASCISTA\nRicordo di Giacomo 
 Matteotti con Michele PetraroiaGarante Provinciale ANPI\nVENERDI' 17 APRIL
 E 2026 | ORE 19:30PIAZZA MATTEOTTI | FORIO (ΝΑ) https://ischiaeventi.com/e
 venti-ad-ischia/cultura/dibattiti-ed-incontri-culturali/evento/249894-un-f
 iore-per-matteotti
DTSTART:20260417T173000Z
DTEND:20260417T190000Z
LOCATION:Piazza Giacomo Matteotti (80075 Forio NA\, Italia)
SUMMARY:Un fiore per Matteotti
URL:https://ischiaeventi.com/eventi-ad-ischia/cultura/dibattiti-ed-incontri
 -culturali/evento/249894-un-fiore-per-matteotti
END:VEVENT
END:VCALENDAR
