BEGIN:VCALENDAR
VERSION:2.0
PRODID:-//https://ischiaeventi.com///NONSGML kigkonsult.se iCalcreator 2.10.15//
METHOD:PUBLISH
BEGIN:VEVENT
UID:20260420T114813UTC-53895cflWu@https://ischiaeventi.com/
DTSTAMP:20260420T114813Z
DESCRIPTION:Un evento che offre un'opportunità unica per celebrare la magia
  della Notte di San Lorenzo in un ambiente spettacolare e sicuro come la S
 piaggia della Chiaia. Un'esperienza indimenticabile che unisce la bellezza
  della natura\, l'innovazione tecnologica e la tradizione fesLva in una se
 rata mozzafiato\, con “falò elettrici” e/o lanterne elettriche\, teli da s
 piaggia e tanto romanticismo. https://ischiaeventi.com/eventi-ad-ischia/cu
 ltura/dibattiti-ed-incontri-culturali/evento/29260-san-lorenzo-sotto-le-st
 elle
DTSTART;VALUE=DATE:20240810
LOCATION:Forio d’Ischia (80075 Forio NA\, Italia)
SUMMARY:San Lorenzo sotto le stelle
URL:https://ischiaeventi.com/eventi-ad-ischia/cultura/dibattiti-ed-incontri
 -culturali/evento/29260-san-lorenzo-sotto-le-stelle
END:VEVENT
END:VCALENDAR
