BEGIN:VCALENDAR
VERSION:2.0
PRODID:-//https://ischiaeventi.com///NONSGML kigkonsult.se iCalcreator 2.10.15//
METHOD:PUBLISH
BEGIN:VEVENT
UID:20260420T113450UTC-2225VGGCu4@https://ischiaeventi.com/
DTSTAMP:20260420T113450Z
DESCRIPTION:Sfilaforio 2024 https://ischiaeventi.com/eventi-ad-ischia/cultu
 ra/dibattiti-ed-incontri-culturali/evento/29708-sfilaforio-2024
DTSTART:20240519T080000Z
DTEND:20240519T110000Z
LOCATION:Corso Francesco Regine (Via Avvocato Francesco Regine\, 80075 Fori
 o NA\, Italia)
SUMMARY:Sfilaforio 2024
URL:https://ischiaeventi.com/eventi-ad-ischia/cultura/dibattiti-ed-incontri
 -culturali/evento/29708-sfilaforio-2024
END:VEVENT
END:VCALENDAR
