BEGIN:VCALENDAR
VERSION:2.0
PRODID:-//https://ischiaeventi.com///NONSGML kigkonsult.se iCalcreator 2.10.15//
METHOD:PUBLISH
BEGIN:VEVENT
UID:20260419T150642UTC-7092jvuHUA@https://ischiaeventi.com/
DTSTAMP:20260419T150642Z
DESCRIPTION:James Senese in concerto https://ischiaeventi.com/eventi-ad-isc
 hia/cultura/dibattiti-ed-incontri-culturali/evento/30266-james-senese-in-c
 oncerto
DTSTART:20240613T193000Z
DTEND:20240613T213000Z
LOCATION: Piazzetta Sant'Antonio  (Via Cumana\, 68\, 80074 Casamicciola Ter
 me NA\, Italia)
SUMMARY:James Senese in concerto
URL:https://ischiaeventi.com/eventi-ad-ischia/cultura/dibattiti-ed-incontri
 -culturali/evento/30266-james-senese-in-concerto
END:VEVENT
END:VCALENDAR
