BEGIN:VCALENDAR
VERSION:2.0
PRODID:-//https://ischiaeventi.com///NONSGML kigkonsult.se iCalcreator 2.10.15//
METHOD:PUBLISH
BEGIN:VEVENT
UID:20260419T150508UTC-67357f9u2u@https://ischiaeventi.com/
DTSTAMP:20260419T150508Z
DESCRIPTION:Enzo Fischetti e Cafè napoletano duo https://ischiaeventi.com/e
 venti-ad-ischia/cultura/dibattiti-ed-incontri-culturali/evento/30267-enzo-
 fischetti-e-cafe-napoletano-duo
DTSTART:20240612T193000Z
DTEND:20240612T213000Z
LOCATION: Piazzetta Sant'Antonio  (Via Cumana\, 68\, 80074 Casamicciola Ter
 me NA\, Italia)
SUMMARY:Enzo Fischetti e Cafè napoletano duo
URL:https://ischiaeventi.com/eventi-ad-ischia/cultura/dibattiti-ed-incontri
 -culturali/evento/30267-enzo-fischetti-e-cafe-napoletano-duo
END:VEVENT
END:VCALENDAR
