BEGIN:VCALENDAR
VERSION:2.0
PRODID:-//https://ischiaeventi.com///NONSGML kigkonsult.se iCalcreator 2.10.15//
METHOD:PUBLISH
BEGIN:VEVENT
UID:20260419T150301UTC-3721nL8uev@https://ischiaeventi.com/
DTSTAMP:20260419T150301Z
DESCRIPTION:Amare. White Party https://ischiaeventi.com/eventi-ad-ischia/cu
 ltura/dibattiti-ed-incontri-culturali/evento/31020-amare-white-party
DTSTART:20240706T190000Z
DTEND:20240706T215900Z
LOCATION:Frontemare beach mare (Parcheggio ANAS\, 80074 Casamicciola Terme 
 NA\, Italia)
SUMMARY:Amare. White Party
URL:https://ischiaeventi.com/eventi-ad-ischia/cultura/dibattiti-ed-incontri
 -culturali/evento/31020-amare-white-party
END:VEVENT
END:VCALENDAR
