BEGIN:VCALENDAR
VERSION:2.0
PRODID:-//https://ischiaeventi.com///NONSGML kigkonsult.se iCalcreator 2.10.15//
METHOD:PUBLISH
BEGIN:VEVENT
UID:20260419T120646UTC-0363b8BbmA@https://ischiaeventi.com/
DTSTAMP:20260419T120646Z
DESCRIPTION:Summer Time Serrara: MUSICNIGHT CON I TERRAMIA https://ischiaev
 enti.com/eventi-ad-ischia/cultura/dibattiti-ed-incontri-culturali/evento/3
 1253-summer-time-serrara-musicnight-con-i-terramia
DTSTART:20240831T190000Z
DTEND:20240831T210000Z
LOCATION:Piazza Sant'Angelo  (80070 Serrara Fontana NA\, Italia)
SUMMARY:Summer Time Serrara: MUSICNIGHT CON I TERRAMIA
URL:https://ischiaeventi.com/eventi-ad-ischia/cultura/dibattiti-ed-incontri
 -culturali/evento/31253-summer-time-serrara-musicnight-con-i-terramia
END:VEVENT
END:VCALENDAR
