BEGIN:VCALENDAR
VERSION:2.0
PRODID:-//https://ischiaeventi.com///NONSGML kigkonsult.se iCalcreator 2.10.15//
METHOD:PUBLISH
BEGIN:VEVENT
UID:20260419T150241UTC-0215te6VJ2@https://ischiaeventi.com/
DTSTAMP:20260419T150241Z
DESCRIPTION:Caffè napoletano duo https://ischiaeventi.com/eventi-ad-ischia/
 cultura/dibattiti-ed-incontri-culturali/evento/31456-caffe-napoletano-duo
DTSTART:20240721T200000Z
DTEND:20240721T213000Z
LOCATION:Piazza Marina Casamicciola Terme (Corso Luigi Manzi\, 1\, 80074 Ca
 samicciola Terme NA\, Italy)
SUMMARY:Caffè napoletano duo
URL:https://ischiaeventi.com/eventi-ad-ischia/cultura/dibattiti-ed-incontri
 -culturali/evento/31456-caffe-napoletano-duo
END:VEVENT
END:VCALENDAR
