BEGIN:VCALENDAR
VERSION:2.0
PRODID:-//https://ischiaeventi.com///NONSGML kigkonsult.se iCalcreator 2.10.15//
METHOD:PUBLISH
BEGIN:VEVENT
UID:20260420T115354UTC-5087am9FMN@https://ischiaeventi.com/
DTSTAMP:20260420T115354Z
DESCRIPTION:20:30 SPETTACOLI E GARA CULINARIA DI PIZZA DI SCAROLA il prodot
 to natalizio identitario di Forio e dell’Isola d’Ischia per ritrovare le n
 ostre tradizioni culinarie tra assaggi\, balli e aneddoti dei più anziani 
 nel Chiostro di San Francesco in Piazza Municipio Forio https://ischiaeven
 ti.com/eventi-ad-ischia/cultura/dibattiti-ed-incontri-culturali/evento/340
 86-forio-merryland-spettacoli-e-gara-culinaria-di-pizza-di-scarola
DTSTART:20241212T193000Z
DTEND:20241212T210000Z
LOCATION:Comune di Forio (Piazza Municipio\, 1\, 80075 Forio NA\, Italia)
SUMMARY:Forio MerryLand: SPETTACOLI E GARA CULINARIA DI PIZZA DI SCAROLA
URL:https://ischiaeventi.com/eventi-ad-ischia/cultura/dibattiti-ed-incontri
 -culturali/evento/34086-forio-merryland-spettacoli-e-gara-culinaria-di-piz
 za-di-scarola
END:VEVENT
END:VCALENDAR
