BEGIN:VCALENDAR
VERSION:2.0
PRODID:-//https://ischiaeventi.com///NONSGML kigkonsult.se iCalcreator 2.10.15//
METHOD:PUBLISH
BEGIN:VEVENT
UID:20260420T113837UTC-4563dfFacV@https://ischiaeventi.com/
DTSTAMP:20260420T113837Z
DESCRIPTION:07:45 LE DEGUSTAZIONI TIPICHE la bruschetta foriana\, la pasta 
 e fagioli con le cozze e il buon vino paesano&nbsp\; &nbsp\;\n&nbsp\; http
 s://ischiaeventi.com/eventi-ad-ischia/cultura/dibattiti-ed-incontri-cultur
 ali/evento/34114-forio-merryland-le-degustazioni-tipiche
DTSTART:20241224T064500Z
DTEND:20241224T080000Z
LOCATION:Comune di Forio (Piazza Municipio\, 1\, 80075 Forio NA\, Italia)
SUMMARY:Forio MerryLand: LE DEGUSTAZIONI TIPICHE
URL:https://ischiaeventi.com/eventi-ad-ischia/cultura/dibattiti-ed-incontri
 -culturali/evento/34114-forio-merryland-le-degustazioni-tipiche
END:VEVENT
END:VCALENDAR
