BEGIN:VCALENDAR
VERSION:2.0
PRODID:-//https://ischiaeventi.com///NONSGML kigkonsult.se iCalcreator 2.10.15//
METHOD:PUBLISH
BEGIN:VEVENT
UID:20260420T114525UTC-7802CKK0mF@https://ischiaeventi.com/
DTSTAMP:20260420T114525Z
DESCRIPTION:CANTINANDO A NATALE visite guidate nelle antiche cantine ischit
 ane con degustazioni di prodotti tipici della tradizione natalizia nel car
 atteristico borgo di Panza https://ischiaeventi.com/eventi-ad-ischia/cultu
 ra/dibattiti-ed-incontri-culturali/evento/34124-forio-merryland-cantinando
 -a-natale
DTSTART:20241228T140000Z
DTEND:20241228T170000Z
LOCATION:Comune di Forio (Piazza Municipio\, 1\, 80075 Forio NA\, Italia)
SUMMARY:Forio MerryLand: CANTINANDO A NATALE
URL:https://ischiaeventi.com/eventi-ad-ischia/cultura/dibattiti-ed-incontri
 -culturali/evento/34124-forio-merryland-cantinando-a-natale
END:VEVENT
END:VCALENDAR
