BEGIN:VCALENDAR
VERSION:2.0
PRODID:-//https://ischiaeventi.com///NONSGML kigkonsult.se iCalcreator 2.10.15//
METHOD:PUBLISH
BEGIN:VEVENT
UID:20260419T162415UTC-3533sptzPi@https://ischiaeventi.com/
DTSTAMP:20260419T162415Z
DESCRIPTION:Natale a Ischia: Il tuffo di Capodanno e gran galà di Capodanno
  https://ischiaeventi.com/eventi-ad-ischia/cultura/dibattiti-ed-incontri-c
 ulturali/evento/35840-natale-a-ischia-il-tuffo-di-capodanno-e-gran-gala-di
 -capodanno
DTSTART;VALUE=DATE:20250101
LOCATION:Via Roma (Via Roma\, 80077 Ischia NA\, Italia)
SUMMARY:Natale a Ischia: Il tuffo di Capodanno e gran galà di Capodanno
URL:https://ischiaeventi.com/eventi-ad-ischia/cultura/dibattiti-ed-incontri
 -culturali/evento/35840-natale-a-ischia-il-tuffo-di-capodanno-e-gran-gala-
 di-capodanno
END:VEVENT
END:VCALENDAR
