BEGIN:VCALENDAR
VERSION:2.0
PRODID:-//https://ischiaeventi.com///NONSGML kigkonsult.se iCalcreator 2.10.15//
METHOD:PUBLISH
BEGIN:VEVENT
UID:20260419T162433UTC-4764jX2Txa@https://ischiaeventi.com/
DTSTAMP:20260419T162433Z
DESCRIPTION:Alla scoperta dell'incanto con le nostre mascotte\nRuote magich
 e: spettacolo sui pattini a cura di Sisters'Skating IschiaIschia Laser Gam
 e in Pineta Nenzi Bozzi: un'emozionante sfida di laser tag per tutte le et
 à\nDJ Set a cura di Tony Romano\n https://ischiaeventi.com/eventi-ad-ischi
 a/cultura/dibattiti-ed-incontri-culturali/evento/36372-accensione-del-bosc
 o-delle-meraviglie
DTSTART:20241123T163000Z
DTEND:20241123T210000Z
LOCATION:Via Edgardo Cortese (Via Edgardo Cortese\, 80077 Ischia NA\, Itali
 a)
SUMMARY:Accensione del bosco delle meraviglie
URL:https://ischiaeventi.com/eventi-ad-ischia/cultura/dibattiti-ed-incontri
 -culturali/evento/36372-accensione-del-bosco-delle-meraviglie
END:VEVENT
END:VCALENDAR
