BEGIN:VCALENDAR
VERSION:2.0
PRODID:-//https://ischiaeventi.com///NONSGML kigkonsult.se iCalcreator 2.10.15//
METHOD:PUBLISH
BEGIN:VEVENT
UID:20260419T120809UTC-9952WEz6UB@https://ischiaeventi.com/
DTSTAMP:20260419T120809Z
DESCRIPTION:La fiammiferaia e il Miracolo di Natale Spettacolo teatrale a c
 ura dell'associazione Platypus https://ischiaeventi.com/eventi-ad-ischia/c
 ultura/dibattiti-ed-incontri-culturali/evento/36885-mare-copp-mas-la-fiamm
 iferaia-e-il-miracolo-di-natale
DTSTART:20241221T140000Z
DTEND:20241221T170000Z
LOCATION:Piazza Serrara (80070 Serrara Fontana NA\, Italia)
SUMMARY:Mare Copp Mas: La fiammiferaia e il Miracolo di Natale
URL:https://ischiaeventi.com/eventi-ad-ischia/cultura/dibattiti-ed-incontri
 -culturali/evento/36885-mare-copp-mas-la-fiammiferaia-e-il-miracolo-di-nat
 ale
END:VEVENT
END:VCALENDAR
