BEGIN:VCALENDAR
VERSION:2.0
PRODID:-//https://ischiaeventi.com///NONSGML kigkonsult.se iCalcreator 2.10.15//
METHOD:PUBLISH
BEGIN:VEVENT
UID:20260419T130213UTC-4688b5jZ3E@https://ischiaeventi.com/
DTSTAMP:20260419T130213Z
DESCRIPTION:Presentazione del libro di Miggi Calise e letture di Giuseppe M
 azzella e Salvatore Di Fede\, Musiche di Claudio Carluccio. https://ischia
 eventi.com/eventi-ad-ischia/cultura/dibattiti-ed-incontri-culturali/evento
 /38247-lacco-ameno-in-canti-di-natale-la-ragazza-che-accarezzava-il-mare
DTSTART:20241228T160000Z
DTEND:20241228T180000Z
LOCATION:Villa Arbusto (Corso Angelo Rizzoli\, 194\, 80076 Lacco Ameno NA\,
  Italia)
SUMMARY:Lacco Ameno In-canti di Natale: La ragazza che accarezzava il mare
URL:https://ischiaeventi.com/eventi-ad-ischia/cultura/dibattiti-ed-incontri
 -culturali/evento/38247-lacco-ameno-in-canti-di-natale-la-ragazza-che-acca
 rezzava-il-mare
END:VEVENT
END:VCALENDAR
