BEGIN:VCALENDAR
VERSION:2.0
PRODID:-//https://ischiaeventi.com///NONSGML kigkonsult.se iCalcreator 2.10.15//
METHOD:PUBLISH
BEGIN:VEVENT
UID:20260419T151506UTC-2801JVD0mZ@https://ischiaeventi.com/
DTSTAMP:20260419T151506Z
DESCRIPTION:LABORATORIO DI LETTURA CONI NONNI CON MERENDA Villa Joseph (Don
  Orione) 15:30 https://ischiaeventi.com/eventi-ad-ischia/cultura/dibattiti
 -ed-incontri-culturali/evento/38439-natale-a-casamicciola-laboratorio-di-l
 ettura-con-i-nonni
DTSTART:20241211T143000Z
DTEND:20241211T173000Z
LOCATION:Villa Joseph (80074 Casamicciola Terme NA\, Italia)
SUMMARY:Natale a Casamicciola: laboratorio di lettura con i nonni
URL:https://ischiaeventi.com/eventi-ad-ischia/cultura/dibattiti-ed-incontri
 -culturali/evento/38439-natale-a-casamicciola-laboratorio-di-lettura-con-i
 -nonni
END:VEVENT
END:VCALENDAR
