BEGIN:VCALENDAR
VERSION:2.0
PRODID:-//https://ischiaeventi.com///NONSGML kigkonsult.se iCalcreator 2.10.15//
METHOD:PUBLISH
BEGIN:VEVENT
UID:20260419T151338UTC-4030rXGgGm@https://ischiaeventi.com/
DTSTAMP:20260419T151338Z
DESCRIPTION:CONCERTO DI NATALE DELL'ORCHESTRA E CORO DELL'ISTITUTO COMPRENS
 IVO E.IBSEN Basilica di S. M. Maddalena https://ischiaeventi.com/eventi-ad
 -ischia/cultura/dibattiti-ed-incontri-culturali/evento/38441-natale-a-casa
 micciola-concerto-di-natale
DTSTART:20241219T143000Z
DTEND:20241219T160000Z
LOCATION:Chiesa parrocchiale Santa Maria Maddalena (Via Giuseppe Garibaldi\
 , 80074 Casamicciola Terme NA\, Italia)
SUMMARY:Natale a Casamicciola: CONCERTO DI NATALE 
URL:https://ischiaeventi.com/eventi-ad-ischia/cultura/dibattiti-ed-incontri
 -culturali/evento/38441-natale-a-casamicciola-concerto-di-natale
END:VEVENT
END:VCALENDAR
