BEGIN:VCALENDAR
VERSION:2.0
PRODID:-//https://ischiaeventi.com///NONSGML kigkonsult.se iCalcreator 2.10.15//
METHOD:PUBLISH
BEGIN:VEVENT
UID:20260419T150815UTC-5450VjWwDw@https://ischiaeventi.com/
DTSTAMP:20260419T150815Z
DESCRIPTION:Screening oncologico col camper della Regione Campania piazzale
  Anna De Felice https://ischiaeventi.com/eventi-ad-ischia/cultura/dibattit
 i-ed-incontri-culturali/evento/38442-natale-a-casamicciola-natale-in-salut
 e
DTSTART:20241220T090000Z
DTEND:20241220T120000Z
LOCATION:Piazzale Anna De Felice  (80074 Casamicciola Terme NA\, Italia)
SUMMARY:Natale a Casamicciola: NATALE IN SALUTE
URL:https://ischiaeventi.com/eventi-ad-ischia/cultura/dibattiti-ed-incontri
 -culturali/evento/38442-natale-a-casamicciola-natale-in-salute
END:VEVENT
END:VCALENDAR
