BEGIN:VCALENDAR
VERSION:2.0
PRODID:-//https://ischiaeventi.com///NONSGML kigkonsult.se iCalcreator 2.10.15//
METHOD:PUBLISH
BEGIN:VEVENT
UID:20260419T150749UTC-2163Vu79bE@https://ischiaeventi.com/
DTSTAMP:20260419T150749Z
DESCRIPTION:Concerto di Natale delle Officine Creative di Cordate Vocali Ch
 iesa del Buon Consiglio https://ischiaeventi.com/eventi-ad-ischia/cultura/
 dibattiti-ed-incontri-culturali/evento/38443-natale-a-casamicciola-oh-happ
 y-day
DTSTART:20241221T180000Z
DTEND:20241221T200000Z
LOCATION:Chiesa del Buon Consiglio (Corso Luigi Manzi\, 5\, 80074 Casamicci
 ola Terme NA\, Italia)
SUMMARY:Natale a Casamicciola: 'OH HAPPY DAY!'
URL:https://ischiaeventi.com/eventi-ad-ischia/cultura/dibattiti-ed-incontri
 -culturali/evento/38443-natale-a-casamicciola-oh-happy-day
END:VEVENT
END:VCALENDAR
