BEGIN:VCALENDAR
VERSION:2.0
PRODID:-//https://ischiaeventi.com///NONSGML kigkonsult.se iCalcreator 2.10.15//
METHOD:PUBLISH
BEGIN:VEVENT
UID:20260419T150223UTC-6706RFF33O@https://ischiaeventi.com/
DTSTAMP:20260419T150223Z
DESCRIPTION:Rappresentazione natalizia dei bambini dell'Oratorio della Parr
 occhia di Sant'Antonio e benedizione dei bambinelli del presepe Piazzetta 
 Sant'Antonio - Perrone 15:30 https://ischiaeventi.com/eventi-ad-ischia/cul
 tura/dibattiti-ed-incontri-culturali/evento/38445-natale-a-casamicciola-na
 tale-e
DTSTART:20241222T143000Z
DTEND:20241222T170000Z
LOCATION:Parrocchia di Sant'Antonio Abate (Via Acquedotto\, 63\, 80077 Isch
 ia NA\, Italia)
SUMMARY:Natale a Casamicciola: NATALE E'...
URL:https://ischiaeventi.com/eventi-ad-ischia/cultura/dibattiti-ed-incontri
 -culturali/evento/38445-natale-a-casamicciola-natale-e
END:VEVENT
END:VCALENDAR
