BEGIN:VCALENDAR
VERSION:2.0
PRODID:-//https://ischiaeventi.com///NONSGML kigkonsult.se iCalcreator 2.10.15//
METHOD:PUBLISH
BEGIN:VEVENT
UID:20260419T150524UTC-6935nmKj9c@https://ischiaeventi.com/
DTSTAMP:20260419T150524Z
DESCRIPTION:concerto della Nuova Orchestra Italiana con Gino Rivieccio Piaz
 za Marina 18:30 https://ischiaeventi.com/eventi-ad-ischia/cultura/dibattit
 i-ed-incontri-culturali/evento/38452-natale-a-casamicciola-napoli-tre-punt
 i-e-a-capo
DTSTART:20250101T173000Z
DTEND:20250101T183000Z
LOCATION:Piazza Marina Casamicciola Terme (Corso Luigi Manzi\, 1\, 80074 Ca
 samicciola Terme NA\, Italy)
SUMMARY:Natale a Casamicciola: 'NAPOLI TRE PUNTI E A CAPO”*
URL:https://ischiaeventi.com/eventi-ad-ischia/cultura/dibattiti-ed-incontri
 -culturali/evento/38452-natale-a-casamicciola-napoli-tre-punti-e-a-capo
END:VEVENT
END:VCALENDAR
