BEGIN:VCALENDAR
VERSION:2.0
PRODID:-//https://ischiaeventi.com///NONSGML kigkonsult.se iCalcreator 2.10.15//
METHOD:PUBLISH
BEGIN:VEVENT
UID:20260419T162554UTC-1968ijwz7o@https://ischiaeventi.com/
DTSTAMP:20260419T162554Z
DESCRIPTION:BENVENUTO 2025 * show di fuochi pirotecnici Lungomare di Casami
 cciola 21:30 https://ischiaeventi.com/eventi-ad-ischia/cultura/dibattiti-e
 d-incontri-culturali/evento/38453-natale-a-casamicciola-show-di-fuochi-pir
 otecnici
DTSTART:20250101T203000Z
DTEND:20250101T223000Z
LOCATION:Piazza Marina Casamicciola Terme (Corso Luigi Manzi\, 1\, 80074 Ca
 samicciola Terme NA\, Italy)
SUMMARY:Natale a Casamicciola: show di fuochi pirotecnici
URL:https://ischiaeventi.com/eventi-ad-ischia/cultura/dibattiti-ed-incontri
 -culturali/evento/38453-natale-a-casamicciola-show-di-fuochi-pirotecnici
END:VEVENT
END:VCALENDAR
