BEGIN:VCALENDAR
VERSION:2.0
PRODID:-//https://ischiaeventi.com///NONSGML kigkonsult.se iCalcreator 2.10.15//
METHOD:PUBLISH
BEGIN:VEVENT
UID:20260419T162556UTC-7345Okbv2S@https://ischiaeventi.com/
DTSTAMP:20260419T162556Z
DESCRIPTION:Concerto di Natale della scuola Ibsen https://ischiaeventi.com/
 eventi-ad-ischia/cultura/dibattiti-ed-incontri-culturali/evento/39855-nata
 le-a-casamicciola-concerto-di-natale-della-scuola-ibsen
DTSTART:20241217T143000Z
DTEND:20241217T153000Z
LOCATION:Chiesa parrocchiale Santa Maria Maddalena (Via Giuseppe Garibaldi\
 , 80074 Casamicciola Terme NA\, Italia)
SUMMARY:Natale a Casamicciola: concerto di Natale della scuola Ibsen
URL:https://ischiaeventi.com/eventi-ad-ischia/cultura/dibattiti-ed-incontri
 -culturali/evento/39855-natale-a-casamicciola-concerto-di-natale-della-scu
 ola-ibsen
END:VEVENT
END:VCALENDAR
