BEGIN:VCALENDAR
VERSION:2.0
PRODID:-//https://ischiaeventi.com///NONSGML kigkonsult.se iCalcreator 2.10.15//
METHOD:PUBLISH
BEGIN:VEVENT
UID:20260419T161807UTC-0389jNxzgZ@https://ischiaeventi.com/
DTSTAMP:20260419T161807Z
DESCRIPTION:Commedia in 3 atti di Eduardo De Filippo https://ischiaeventi.c
 om/eventi-ad-ischia/cultura/dibattiti-ed-incontri-culturali/evento/40945-u
 omo-e-galantuomo
DTSTART:20250209T180000Z
DTEND:20250209T200000Z
LOCATION:Cinema Excelsior (Via Francesco Sogliuzzo\, 18\, 80077 Ischia NA\,
  Italia)
SUMMARY:Uomo e galantuomo
URL:https://ischiaeventi.com/eventi-ad-ischia/cultura/dibattiti-ed-incontri
 -culturali/evento/40945-uomo-e-galantuomo
END:VEVENT
END:VCALENDAR
