BEGIN:VCALENDAR
VERSION:2.0
PRODID:-//https://ischiaeventi.com///NONSGML kigkonsult.se iCalcreator 2.10.15//
METHOD:PUBLISH
BEGIN:VEVENT
UID:20260420T113714UTC-7553dVdD1j@https://ischiaeventi.com/
DTSTAMP:20260420T113714Z
DESCRIPTION:Piazza SS. Immacolata - ore 15.30\nIl Carnevale dei più piccoli
  con animazione e giochi.\nOre 17.30 - Il Corteo del Principe Carnevale sf
 ilerà per le vie di Forio\, accompagnato dalla Banda “Città di Monterone”.
 \nOre 18.30 - GRANDE SPETTACOLO DI MUSICA E CABARET con I Personal e lo sp
 ettacolo comico di Carmine Faraco. https://ischiaeventi.com/eventi-ad-isch
 ia/cultura/dibattiti-ed-incontri-culturali/evento/44696-106-carnevale-di-m
 onterone
DTSTART:20250304T143000Z
DTEND:20250304T170000Z
LOCATION:Monterone (Via Giovanni Castellaccio\, 109\, 80075 Forio NA\, Ital
 ia)
SUMMARY:106° Carnevale di Monterone
URL:https://ischiaeventi.com/eventi-ad-ischia/cultura/dibattiti-ed-incontri
 -culturali/evento/44696-106-carnevale-di-monterone
END:VEVENT
END:VCALENDAR
