BEGIN:VCALENDAR
VERSION:2.0
PRODID:-//https://ischiaeventi.com///NONSGML kigkonsult.se iCalcreator 2.10.15//
METHOD:PUBLISH
BEGIN:VEVENT
UID:20260419T162635UTC-9877oBVI8n@https://ischiaeventi.com/
DTSTAMP:20260419T162635Z
DESCRIPTION:Spettacoli ore 17:00 e 18:40&nbsp\; Cartoon live! https://ischi
 aeventi.com/eventi-ad-ischia/cultura/dibattiti-ed-incontri-culturali/event
 o/45431-lo-spettacolo-delle-mascotte-dal-vivo
DTSTART:20250329T160000Z
DTEND:20250329T180000Z
LOCATION:Centro Parrocchiale San Pietro ( Via Colonna Vittoria\, 196\, 8007
 7 Ischia NA)
SUMMARY:Lo spettacolo delle mascotte dal vivo 
URL:https://ischiaeventi.com/eventi-ad-ischia/cultura/dibattiti-ed-incontri
 -culturali/evento/45431-lo-spettacolo-delle-mascotte-dal-vivo
END:VEVENT
END:VCALENDAR
