BEGIN:VCALENDAR
VERSION:2.0
PRODID:-//https://ischiaeventi.com///NONSGML kigkonsult.se iCalcreator 2.10.15//
METHOD:PUBLISH
BEGIN:VEVENT
UID:20260419T151728UTC-6349d8oR2Z@https://ischiaeventi.com/
DTSTAMP:20260419T151728Z
DESCRIPTION:Manifestazione Ischia per Palestina Libera https://ischiaeventi
 .com/eventi-ad-ischia/cultura/dibattiti-ed-incontri-culturali/evento/77195
 -manifestazione-ischia-per-palestina-libera
DTSTART:20250525T080000Z
DTEND:20250525T110000Z
LOCATION:Piazza Marina Casamicciola Terme (Corso Luigi Manzi\, 1\, 80074 Ca
 samicciola Terme NA\, Italy)
SUMMARY:Manifestazione Ischia per Palestina Libera
URL:https://ischiaeventi.com/eventi-ad-ischia/cultura/dibattiti-ed-incontri
 -culturali/evento/77195-manifestazione-ischia-per-palestina-libera
END:VEVENT
END:VCALENDAR
