BEGIN:VCALENDAR
VERSION:2.0
PRODID:-//https://ischiaeventi.com///NONSGML kigkonsult.se iCalcreator 2.10.15//
METHOD:PUBLISH
BEGIN:VEVENT
UID:20260419T151234UTC-3208Hghx7a@https://ischiaeventi.com/
DTSTAMP:20260419T151234Z
DESCRIPTION:Maxi schermo per la partita Napoli - Cagliari https://ischiaeve
 nti.com/eventi-ad-ischia/cultura/dibattiti-ed-incontri-culturali/evento/77
 360-maxi-schermo-per-la-partita-napoli-cagliari
DTSTART:20250523T170000Z
DTEND:20250523T210000Z
LOCATION:Piazza Marina Casamicciola Terme (Corso Luigi Manzi\, 1\, 80074 Ca
 samicciola Terme NA\, Italy)
SUMMARY:Maxi schermo per la partita Napoli - Cagliari
URL:https://ischiaeventi.com/eventi-ad-ischia/cultura/dibattiti-ed-incontri
 -culturali/evento/77360-maxi-schermo-per-la-partita-napoli-cagliari
END:VEVENT
END:VCALENDAR
