BEGIN:VCALENDAR
VERSION:2.0
PRODID:-//https://ischiaeventi.com///NONSGML kigkonsult.se iCalcreator 2.10.15//
METHOD:PUBLISH
BEGIN:VEVENT
UID:20260419T160104UTC-6730kzGtHx@https://ischiaeventi.com/
DTSTAMP:20260419T160104Z
DESCRIPTION:Una travolgente marching band che porterà allegria e ritmo tra 
 le vie del centro!\n&nbsp\; https://ischiaeventi.com/eventi-ad-ischia/cult
 ura/evento/81005-festeggiamenti-in-onore-di-san-vito-tkb-takabum-street-ba
 nd
DTSTART:20250615T160000Z
DTEND:20250615T203000Z
LOCATION:Porto di Forio (Porto di Forio\, 80075 Forio NA\, Italia)
SUMMARY:Festeggiamenti in onore di San Vito: TKB - Takabum Street Band
URL:https://ischiaeventi.com/eventi-ad-ischia/cultura/evento/81005-festeggi
 amenti-in-onore-di-san-vito-tkb-takabum-street-band
END:VEVENT
END:VCALENDAR
