BEGIN:VCALENDAR
VERSION:2.0
PRODID:-//https://ischiaeventi.com///NONSGML kigkonsult.se iCalcreator 2.10.15//
METHOD:PUBLISH
BEGIN:VEVENT
UID:20260420T123555UTC-5251i8XNHW@https://ischiaeventi.com/
DTSTAMP:20260420T123555Z
DESCRIPTION:Summer Time Serrara: MUSICNIGHT CON DJ MANUELITO https://ischia
 eventi.com/eventi-ad-ischia/evento/31234-summer-time-serrara-musicnight-co
 n-dj-manuelito
DTSTART:20240720T190000Z
DTEND:20240720T215200Z
LOCATION:Piazza Fontana (80070 Serrara Fontana NA\, Italia)
SUMMARY:Summer Time Serrara: MUSICNIGHT CON DJ MANUELITO 
URL:https://ischiaeventi.com/eventi-ad-ischia/evento/31234-summer-time-serr
 ara-musicnight-con-dj-manuelito
END:VEVENT
END:VCALENDAR
