BEGIN:VCALENDAR
VERSION:2.0
PRODID:-//https://ischiaeventi.com///NONSGML kigkonsult.se iCalcreator 2.10.15//
METHOD:PUBLISH
BEGIN:VEVENT
UID:20260422T232921UTC-3584vL6fW6@https://ischiaeventi.com/
DTSTAMP:20260422T232921Z
DESCRIPTION:Mostra Veranica Acunto\nIngresso Libero\n&nbsp\; https://ischia
 eventi.com/eventi-ad-ischia/evento/68498-mostra-veronica-acunto
DTSTART:20250528T173000Z
DTEND:20250528T190000Z
LOCATION:Villa Arbusto (Corso Angelo Rizzoli\, 194\, 80076 Lacco Ameno NA\,
  Italia)
SUMMARY:Mostra Veronica Acunto
URL:https://ischiaeventi.com/eventi-ad-ischia/evento/68498-mostra-veronica-
 acunto
END:VEVENT
END:VCALENDAR
