BEGIN:VCALENDAR
VERSION:2.0
PRODID:-//https://ischiaeventi.com///NONSGML kigkonsult.se iCalcreator 2.10.15//
METHOD:PUBLISH
BEGIN:VEVENT
UID:20260420T155425UTC-4954GKL6mi@https://ischiaeventi.com/
DTSTAMP:20260420T155425Z
DESCRIPTION:MANIFESTAZIONE NATALE PRESEPE ITINERANTE a cura dell'istituto c
 omprensivo E. Ibsen https://ischiaeventi.com/eventi-ad-ischia/tradizioni/g
 astronomia/evento/249001-natale-a-casamicciola-manifestazione-natale-prese
 pe-itinerante
DTSTART:20251213T170000Z
DTEND:20251213T190000Z
LOCATION:Piazza Marina Casamicciola Terme (Corso Luigi Manzi\, 1\, 80074 Ca
 samicciola Terme NA\, Italy)
SUMMARY:Natale a Casamicciola: MANIFESTAZIONE NATALE PRESEPE ITINERANTE
URL:https://ischiaeventi.com/eventi-ad-ischia/tradizioni/gastronomia/evento
 /249001-natale-a-casamicciola-manifestazione-natale-presepe-itinerante
END:VEVENT
END:VCALENDAR
