BEGIN:VCALENDAR
VERSION:2.0
PRODID:-//https://ischiaeventi.com///NONSGML kigkonsult.se iCalcreator 2.10.15//
METHOD:PUBLISH
BEGIN:VEVENT
UID:20260420T142615UTC-61291lX5f3@https://ischiaeventi.com/
DTSTAMP:20260420T142615Z
DESCRIPTION:Piazza Marina CASAMICCIOLA aperitivo in piazza con Dj Sangio ht
 tps://ischiaeventi.com/eventi-ad-ischia/tradizioni/gastronomia/evento/2493
 65-natale-a-casamicciola-aperitvo-in-piazza
DTSTART:20251220T150000Z
DTEND:20251220T183000Z
LOCATION:Piazza Marina Casamicciola Terme (Corso Luigi Manzi\, 1\, 80074 Ca
 samicciola Terme NA\, Italy)
SUMMARY:Natale a Casamicciola: aperitvo in piazza
URL:https://ischiaeventi.com/eventi-ad-ischia/tradizioni/gastronomia/evento
 /249365-natale-a-casamicciola-aperitvo-in-piazza
END:VEVENT
END:VCALENDAR
