BEGIN:VCALENDAR
VERSION:2.0
PRODID:-//https://ischiaeventi.com///NONSGML kigkonsult.se iCalcreator 2.10.15//
METHOD:PUBLISH
BEGIN:VEVENT
UID:20260420T142447UTC-1266WWIFoS@https://ischiaeventi.com/
DTSTAMP:20260420T142447Z
DESCRIPTION:Gianni Mobilya Tamburriata Band https://ischiaeventi.com/eventi
 -ad-ischia/tradizioni/gastronomia/evento/31455-gianni-mobilya-tamburriata-
 band
DTSTART:20240720T193000Z
DTEND:20240720T215900Z
LOCATION:Basilica Pontificia Santa Maria Maddalena (Corso Garibaldi\, 80074
  Casamicciola Terme NA\, Italia)
SUMMARY:Gianni Mobilya Tamburriata Band
URL:https://ischiaeventi.com/eventi-ad-ischia/tradizioni/gastronomia/evento
 /31455-gianni-mobilya-tamburriata-band
END:VEVENT
END:VCALENDAR
