BEGIN:VCALENDAR
VERSION:2.0
PRODID:-//https://ischiaeventi.com///NONSGML kigkonsult.se iCalcreator 2.10.15//
METHOD:PUBLISH
BEGIN:VEVENT
UID:20260420T142617UTC-1278nAfD5e@https://ischiaeventi.com/
DTSTAMP:20260420T142617Z
DESCRIPTION:Sarà l'opportunità di compiere un atto di generosità importanti
 ssimo\, un gesto che vale e che può rivelarsi fondamentale https://ischiae
 venti.com/eventi-ad-ischia/tradizioni/gastronomia/evento/42154-fidas-a-cas
 amicciola
DTSTART:20250206T070000Z
DTEND:20250206T113000Z
LOCATION:Piazzale Anna De Felice  (80074 Casamicciola Terme NA\, Italia)
SUMMARY:Fidas a Casamicciola
URL:https://ischiaeventi.com/eventi-ad-ischia/tradizioni/gastronomia/evento
 /42154-fidas-a-casamicciola
END:VEVENT
END:VCALENDAR
