BEGIN:VCALENDAR
VERSION:2.0
PRODID:-//https://ischiaeventi.com///NONSGML kigkonsult.se iCalcreator 2.10.15//
METHOD:PUBLISH
BEGIN:VEVENT
UID:20260420T125606UTC-4748UTM6ni@https://ischiaeventi.com/
DTSTAMP:20260420T125606Z
DESCRIPTION:Conferenza a cura di Marianna Polverino https://ischiaeventi.co
 m/eventi-per-organizzatore/evento/249180-natale-all-antoniana-conferenza-a
 -cura-di-marianna-polverino
DTSTART:20251209T080000Z
DTEND:20251209T110000Z
LOCATION:Biblioteca Antoniana (Rampe S.Antonio\, 5\, 80077 - Ischia)
SUMMARY:Natale all' Antoniana: Conferenza a cura di Marianna Polverino
URL:https://ischiaeventi.com/eventi-per-organizzatore/evento/249180-natale-
 all-antoniana-conferenza-a-cura-di-marianna-polverino
END:VEVENT
END:VCALENDAR
