BEGIN:VCALENDAR
VERSION:2.0
PRODID:-//https://ischiaeventi.com///NONSGML kigkonsult.se iCalcreator 2.10.15//
METHOD:PUBLISH
BEGIN:VEVENT
UID:20260420T142523UTC-6654abMuVS@https://ischiaeventi.com/
DTSTAMP:20260420T142523Z
DESCRIPTION:Presentazione del sito web del Museo del Mare&nbsp\;a cura di G
 iovanni Di Meglio&nbsp\; https://ischiaeventi.com/eventi-per-organizzatore
 /evento/249182-natale-all-antoniana-presentazione-del-sito-web-del-museo-d
 el-mare
DTSTART:20251211T160000Z
DTEND:20251211T180000Z
LOCATION:Biblioteca Antoniana (Rampe S.Antonio\, 5\, 80077 - Ischia)
SUMMARY:Natale all' Antoniana: Presentazione del sito web del Museo del Mar
 e 
URL:https://ischiaeventi.com/eventi-per-organizzatore/evento/249182-natale-
 all-antoniana-presentazione-del-sito-web-del-museo-del-mare
END:VEVENT
END:VCALENDAR
