BEGIN:VCALENDAR
VERSION:2.0
PRODID:-//https://ischiaeventi.com///NONSGML kigkonsult.se iCalcreator 2.10.15//
METHOD:PUBLISH
BEGIN:VEVENT
UID:20260420T113214UTC-891449CPa0@https://ischiaeventi.com/
DTSTAMP:20260420T113214Z
DESCRIPTION:Presentazione del libro&nbsp\;di Giuliana Covella -Apri gli occ
 hi (FIDAPA-Sez. Ischia) https://ischiaeventi.com/eventi-per-organizzatore/
 evento/249183-natale-all-antoniana-presentazione-del-libro-di-giuliana-cov
 ella
DTSTART:20251212T163000Z
DTEND:20251212T180000Z
LOCATION:Biblioteca Antoniana (Rampe S.Antonio\, 5\, 80077 - Ischia)
SUMMARY:Natale all' Antoniana: Presentazione del libro di Giuliana Covella
URL:https://ischiaeventi.com/eventi-per-organizzatore/evento/249183-natale-
 all-antoniana-presentazione-del-libro-di-giuliana-covella
END:VEVENT
END:VCALENDAR
