BEGIN:VCALENDAR
VERSION:2.0
PRODID:-//https://ischiaeventi.com///NONSGML kigkonsult.se iCalcreator 2.10.15//
METHOD:PUBLISH
BEGIN:VEVENT
UID:20260420T113218UTC-2423FSbGH1@https://ischiaeventi.com/
DTSTAMP:20260420T113218Z
DESCRIPTION:Presentazione del libro di Mariafelicia Carraturo Il risveglio 
 di Partenope. Luce nell'abisso https://ischiaeventi.com/eventi-per-organiz
 zatore/evento/249184-natale-all-antoniana-presentazione-del-libro-di-maria
 felicia-carraturo
DTSTART:20251217T170000Z
DTEND:20251217T180000Z
LOCATION:Biblioteca Antoniana (Rampe S.Antonio\, 5\, 80077 - Ischia)
SUMMARY:Natale all' Antoniana: Presentazione del libro di Mariafelicia Carr
 aturo
URL:https://ischiaeventi.com/eventi-per-organizzatore/evento/249184-natale-
 all-antoniana-presentazione-del-libro-di-mariafelicia-carraturo
END:VEVENT
END:VCALENDAR
