BEGIN:VCALENDAR
VERSION:2.0
PRODID:-//https://ischiaeventi.com///NONSGML kigkonsult.se iCalcreator 2.10.15//
METHOD:PUBLISH
BEGIN:VEVENT
UID:20260420T142618UTC-2393tCaZhC@https://ischiaeventi.com/
DTSTAMP:20260420T142618Z
DESCRIPTION:Presentazione del libro di Gaia Greco - Rose di sale&nbsp\;(Cir
 colo Georges Sadoul e FIDAPA - Sez. Ischia) https://ischiaeventi.com/event
 i-per-organizzatore/evento/249185-natale-all-antoniana-presentazione-del-l
 ibro-di-gaia-greco
DTSTART:20251222T170000Z
DTEND:20251222T180000Z
LOCATION:Biblioteca Antoniana (Rampe S.Antonio\, 5\, 80077 - Ischia)
SUMMARY:Natale all' Antoniana: Presentazione del libro di Gaia Greco 
URL:https://ischiaeventi.com/eventi-per-organizzatore/evento/249185-natale-
 all-antoniana-presentazione-del-libro-di-gaia-greco
END:VEVENT
END:VCALENDAR
