BEGIN:VCALENDAR
VERSION:2.0
PRODID:-//https://ischiaeventi.com///NONSGML kigkonsult.se iCalcreator 2.10.15//
METHOD:PUBLISH
BEGIN:VEVENT
UID:20260420T113315UTC-4182sOXnto@https://ischiaeventi.com/
DTSTAMP:20260420T113315Z
DESCRIPTION:Presentazione del libro di Federica lacobelli - Il Paese dei ma
 tti (Bompiani)\n https://ischiaeventi.com/eventi-per-organizzatore/evento/
 249186-natale-all-antoniana-presentazione-del-libro-di-federica-lacobelli-
 il-paese-dei-matti
DTSTART:20251227T170000Z
DTEND:20251227T180000Z
LOCATION:Biblioteca Antoniana (Rampe S.Antonio\, 5\, 80077 - Ischia)
SUMMARY:Natale all' Antoniana: Presentazione del libro di Federica lacobell
 i - Il Paese dei matti 
URL:https://ischiaeventi.com/eventi-per-organizzatore/evento/249186-natale-
 all-antoniana-presentazione-del-libro-di-federica-lacobelli-il-paese-dei-m
 atti
END:VEVENT
END:VCALENDAR
