BEGIN:VCALENDAR
VERSION:2.0
PRODID:-//https://ischiaeventi.com///NONSGML kigkonsult.se iCalcreator 2.10.15//
METHOD:PUBLISH
BEGIN:VEVENT
UID:20260420T113250UTC-7518OLA3Et@https://ischiaeventi.com/
DTSTAMP:20260420T113250Z
DESCRIPTION:Presentazione del libro di Salvatore Di Costanzo - L'isola dell
 a magia\n https://ischiaeventi.com/eventi-per-organizzatore/evento/249187-
 natale-all-antoniana-presentazione-del-libro-di-salvatore-di-costanzo-liso
 la-della-magia
DTSTART:20260102T170000Z
DTEND:20260102T180000Z
LOCATION:Biblioteca Antoniana (Rampe S.Antonio\, 5\, 80077 - Ischia)
SUMMARY:Natale all' Antoniana: Presentazione del libro di Salvatore Di Cost
 anzo - L'isola della magia
URL:https://ischiaeventi.com/eventi-per-organizzatore/evento/249187-natale-
 all-antoniana-presentazione-del-libro-di-salvatore-di-costanzo-lisola-dell
 a-magia
END:VEVENT
END:VCALENDAR
