BEGIN:VCALENDAR
VERSION:2.0
PRODID:-//https://ischiaeventi.com///NONSGML kigkonsult.se iCalcreator 2.10.15//
METHOD:PUBLISH
BEGIN:VEVENT
UID:20260420T125112UTC-0040PNjFF4@https://ischiaeventi.com/
DTSTAMP:20260420T125112Z
DESCRIPTION:L'evoluzione del diritto di famiglia L'interesse del minoreCate
 rina MazzellaPresidente Parco Culturale IschiaSALUTI ISTITUZIONALIVincenzo
  FerrandinoSindaco di IschiaLucia AnnicelliDirettrice Biblioteca comunale 
 AntonianaIntroduceAvv. Anna ItriRevisora del Parco Culturale IschiaRelatri
 ceAVV. ROSARIA MOLLO(esperta in diritto di famiglia e minorile) https://is
 chiaeventi.com/eventi-per-organizzatore/evento/249712-levoluzione-del-diri
 tto-di-famiglia-linteresse-del-minore
DTSTART:20260326T170000Z
DTEND:20260326T190000Z
LOCATION:Biblioteca Antoniana (Rampe S.Antonio\, 5\, 80077 - Ischia)
SUMMARY:L'evoluzione del diritto di famiglia L'interesse del minore
URL:https://ischiaeventi.com/eventi-per-organizzatore/evento/249712-levoluz
 ione-del-diritto-di-famiglia-linteresse-del-minore
END:VEVENT
END:VCALENDAR
