BEGIN:VCALENDAR
VERSION:2.0
PRODID:-//https://ischiaeventi.com///NONSGML kigkonsult.se iCalcreator 2.10.15//
METHOD:PUBLISH
BEGIN:VEVENT
UID:20260420T112015UTC-037090MvIb@https://ischiaeventi.com/
DTSTAMP:20260420T112015Z
DESCRIPTION:Giulia De Caro\, da meretrice a impresaria: storia esemplare di
  una canterina seicentesca https://ischiaeventi.com/eventi-per-organizzato
 re/evento/73489-giulia-de-caro-da-meretrice-a-impresaria
DTSTART:20250520T160000Z
DTEND:20250520T180000Z
LOCATION:Biblioteca Antoniana (Rampe S.Antonio\, 5\, 80077 - Ischia)
SUMMARY:Giulia De Caro\, da meretrice a impresaria
URL:https://ischiaeventi.com/eventi-per-organizzatore/evento/73489-giulia-d
 e-caro-da-meretrice-a-impresaria
END:VEVENT
END:VCALENDAR
