BEGIN:VCALENDAR
VERSION:2.0
PRODID:-//https://ischiaeventi.com///NONSGML kigkonsult.se iCalcreator 2.10.15//
METHOD:PUBLISH
BEGIN:VEVENT
UID:20260425T223426UTC-1695gGlNwd@https://ischiaeventi.com/
DTSTAMP:20260425T223426Z
DESCRIPTION:Presentazione del libro di Anna Pilato - Il regalo Inaugurazion
 e dello spazio giocoLIBERO&nbsp\;a cura di Marco Cortese (aperto fino al 6
  gennaio) https://ischiaeventi.com/luoghi-sede-degli-eventi/evento/249181-
 natale-all-antoniana-presentazione-del-libro-di-anna-pilato-il-regalo
DTSTART:20251209T163000Z
DTEND:20251209T180000Z
LOCATION:Biblioteca Antoniana (Rampe S.Antonio\, 5\, 80077 - Ischia)
SUMMARY:Natale all' Antoniana: Presentazione del libro di Anna Pilato - Il 
 regalo
URL:https://ischiaeventi.com/luoghi-sede-degli-eventi/evento/249181-natale-
 all-antoniana-presentazione-del-libro-di-anna-pilato-il-regalo
END:VEVENT
END:VCALENDAR
