BEGIN:VCALENDAR
VERSION:2.0
PRODID:-//https://ischiaeventi.com///NONSGML kigkonsult.se iCalcreator 2.10.15//
METHOD:PUBLISH
BEGIN:VEVENT
UID:20260425T223423UTC-9105g5640a@https://ischiaeventi.com/
DTSTAMP:20260425T223423Z
DESCRIPTION:flamma repente: terremoti\, frane\, eruzioni ad ischia dal neol
 itico all'epoca grecaSaluti: Lucia AnnicelliDirettrice Biblioteca Comunale
  AntonianaCaterina MazzellaPresidente del Parco Culturale IschiaInterviene
 : Mariangela Catuogno Archeologa https://ischiaeventi.com/luoghi-sede-degl
 i-eventi/evento/249576-flamma-repente-terremoti-frane-eruzioni-ad-ischia-d
 al-neolitico-allepoca-greca
DTSTART:20260227T170000Z
DTEND:20260227T190000Z
LOCATION:Biblioteca Antoniana (Rampe S.Antonio\, 5\, 80077 - Ischia)
SUMMARY:Flamma repente: terremoti\, frane\, eruzioni ad ischia dal neolitic
 o all'epoca greca
URL:https://ischiaeventi.com/luoghi-sede-degli-eventi/evento/249576-flamma-
 repente-terremoti-frane-eruzioni-ad-ischia-dal-neolitico-allepoca-greca
END:VEVENT
END:VCALENDAR
