BEGIN:VCALENDAR
VERSION:2.0
PRODID:-//https://ischiaeventi.com///NONSGML kigkonsult.se iCalcreator 2.10.15//
METHOD:PUBLISH
BEGIN:VEVENT
UID:20260425T220514UTC-9756vuRhva@https://ischiaeventi.com/
DTSTAMP:20260425T220514Z
DESCRIPTION:La mostra è visitabile dal martedì alla domenica dalle 19.00 al
 le 24.00\, i quadri in esposizione sono disponibili per eventuali acquisti
 . https://ischiaeventi.com/luoghi-sede-degli-eventi/evento/29138-mostra-fo
 tografica-punti-di-vista
DTSTART;VALUE=DATE:20240421
LOCATION:Kiwi Jam (Via Luigi Mazzella\, 42\, 80077 Ischia NA\, Italia)
SUMMARY:Mostra fotografica punti di vista
URL:https://ischiaeventi.com/luoghi-sede-degli-eventi/evento/29138-mostra-f
 otografica-punti-di-vista
END:VEVENT
END:VCALENDAR
