BEGIN:VCALENDAR
VERSION:2.0
PRODID:-//https://ischiaeventi.com///NONSGML kigkonsult.se iCalcreator 2.10.15//
METHOD:PUBLISH
BEGIN:VEVENT
UID:20260419T203327UTC-3714vxIStp@https://ischiaeventi.com/
DTSTAMP:20260419T203327Z
DESCRIPTION:Torneo di Judo che coinvolgerà più di 500 atleLti provenienti d
 a tutta Italia https://ischiaeventi.com/luoghi-sede-degli-eventi/evento/29
 252-8-judo-summer-camp-memorial-adriana-serpico
DTSTART;VALUE=DATE:20240625
LOCATION:Forio d’Ischia (80075 Forio NA\, Italia)
SUMMARY:8° Judo summer camp memorial Adriana Serpico
URL:https://ischiaeventi.com/luoghi-sede-degli-eventi/evento/29252-8-judo-s
 ummer-camp-memorial-adriana-serpico
END:VEVENT
END:VCALENDAR
