BEGIN:VCALENDAR
VERSION:2.0
PRODID:-//https://ischiaeventi.com///NONSGML kigkonsult.se iCalcreator 2.10.15//
METHOD:PUBLISH
BEGIN:VEVENT
UID:20260419T201231UTC-77599uitNf@https://ischiaeventi.com/
DTSTAMP:20260419T201231Z
DESCRIPTION:Gran galà di pattinaggio artistico https://ischiaeventi.com/luo
 ghi-sede-degli-eventi/evento/30748-gran-gala-di-pattinaggio-artistico-carr
 ambaaa-che-serata
DTSTART:20240702T190000Z
DTEND:20240702T214900Z
LOCATION:Palazzetto dello Sport Ischia (Via Fondo Bosso\, 8\, 80077 Ischia 
 NA\, Italia)
SUMMARY:Gran galà di pattinaggio artistico: carrambaaa che serata
URL:https://ischiaeventi.com/luoghi-sede-degli-eventi/evento/30748-gran-gal
 a-di-pattinaggio-artistico-carrambaaa-che-serata
END:VEVENT
END:VCALENDAR
