BEGIN:VCALENDAR
VERSION:2.0
PRODID:-//https://ischiaeventi.com///NONSGML kigkonsult.se iCalcreator 2.10.15//
METHOD:PUBLISH
BEGIN:VEVENT
UID:20260419T201308UTC-9532eXCvpp@https://ischiaeventi.com/
DTSTAMP:20260419T201308Z
DESCRIPTION:Saggio PGS ISCHIA PATTINAGGIO https://ischiaeventi.com/luoghi-s
 ede-degli-eventi/evento/30998-saggio-pgs-ischia-pattinaggio-around-the-wor
 ld
DTSTART:20240707T193000Z
DTEND:20240707T215900Z
LOCATION:Palasport F.Taglialatela (Via Fondo Bosso\, 80077 Ischia NA\, Ital
 ia)
SUMMARY: Saggio PGS ISCHIA PATTINAGGIO: Around the world
URL:https://ischiaeventi.com/luoghi-sede-degli-eventi/evento/30998-saggio-p
 gs-ischia-pattinaggio-around-the-world
END:VEVENT
END:VCALENDAR
